BEGIN:VCALENDAR
VERSION:2.0
PRODID:-//Mooltripakdee International School - ECPv6.15.17.1//NONSGML v1.0//EN
CALSCALE:GREGORIAN
METHOD:PUBLISH
X-ORIGINAL-URL:https://mis.ac.th
X-WR-CALDESC:Events for Mooltripakdee International School
REFRESH-INTERVAL;VALUE=DURATION:PT1H
X-Robots-Tag:noindex
X-PUBLISHED-TTL:PT1H
BEGIN:VTIMEZONE
TZID:Asia/Bangkok
BEGIN:STANDARD
TZOFFSETFROM:+0700
TZOFFSETTO:+0700
TZNAME:+07
DTSTART:20240101T000000
END:STANDARD
END:VTIMEZONE
BEGIN:VEVENT
DTSTART;VALUE=DATE:20250620
DTEND;VALUE=DATE:20250621
DTSTAMP:20260422T133555
CREATED:20250423T041949Z
LAST-MODIFIED:20250423T041949Z
UID:8200-1750377600-1750463999@mis.ac.th
SUMMARY:House Winner Event
DESCRIPTION:House Winner Event
URL:https://mis.ac.th/event/house-winner-event/
CATEGORIES:MIS Event
ATTACH;FMTTYPE=image/jpeg:https://mis.ac.th/wp-content/uploads/2024/05/Art1-6.jpg
END:VEVENT
END:VCALENDAR