BEGIN:VCALENDAR
VERSION:2.0
PRODID:-//Mooltripakdee International School - ECPv6.15.17.1//NONSGML v1.0//EN
CALSCALE:GREGORIAN
METHOD:PUBLISH
X-WR-CALNAME:Mooltripakdee International School
X-ORIGINAL-URL:https://mis.ac.th
X-WR-CALDESC:Events for Mooltripakdee International School
REFRESH-INTERVAL;VALUE=DURATION:PT1H
X-Robots-Tag:noindex
X-PUBLISHED-TTL:PT1H
BEGIN:VTIMEZONE
TZID:Asia/Bangkok
BEGIN:STANDARD
TZOFFSETFROM:+0700
TZOFFSETTO:+0700
TZNAME:+07
DTSTART:20240101T000000
END:STANDARD
END:VTIMEZONE
BEGIN:VEVENT
DTSTART;TZID=Asia/Bangkok:20250430T080000
DTEND;TZID=Asia/Bangkok:20250502T170000
DTSTAMP:20260422T132649
CREATED:20250423T034335Z
LAST-MODIFIED:20250423T034607Z
UID:8193-1746000000-1746205200@mis.ac.th
SUMMARY:MIS Sports Day
DESCRIPTION:MIS Sports Day
URL:https://mis.ac.th/event/mis-sports-day/
CATEGORIES:MIS Event
ATTACH;FMTTYPE=image/jpeg:https://mis.ac.th/wp-content/uploads/2024/04/Events7.jpg
END:VEVENT
BEGIN:VEVENT
DTSTART;TZID=Asia/Bangkok:20250512T080000
DTEND;TZID=Asia/Bangkok:20250513T170000
DTSTAMP:20260422T132649
CREATED:20250423T041531Z
LAST-MODIFIED:20250423T041531Z
UID:8195-1747036800-1747155600@mis.ac.th
SUMMARY:EYES Afternoon of the art
DESCRIPTION:EYES Afternoon of the art
URL:https://mis.ac.th/event/eyes-afternoon-of-the-art/
CATEGORIES:MIS Event
ATTACH;FMTTYPE=image/jpeg:https://mis.ac.th/wp-content/uploads/2024/05/Art1-3.jpg
END:VEVENT
BEGIN:VEVENT
DTSTART;TZID=Asia/Bangkok:20250531T080000
DTEND;TZID=Asia/Bangkok:20250603T170000
DTSTAMP:20260422T132649
CREATED:20250423T041733Z
LAST-MODIFIED:20250423T041733Z
UID:8198-1748678400-1748970000@mis.ac.th
SUMMARY:Half term break
DESCRIPTION:Half term break
URL:https://mis.ac.th/event/half-term-break/
CATEGORIES:MIS Event
ATTACH;FMTTYPE=image/jpeg:https://mis.ac.th/wp-content/uploads/2024/04/FACILITIES19.jpg
END:VEVENT
END:VCALENDAR